BEGIN:VCALENDAR
VERSION:2.0
PRODID:-//三島市谷田塚の台町内会 - ECPv6.15.13//NONSGML v1.0//EN
CALSCALE:GREGORIAN
METHOD:PUBLISH
X-ORIGINAL-URL:https://beauty-post.com
X-WR-CALDESC:三島市谷田塚の台町内会 のイベント
REFRESH-INTERVAL;VALUE=DURATION:PT1H
X-Robots-Tag:noindex
X-PUBLISHED-TTL:PT1H
BEGIN:VTIMEZONE
TZID:Asia/Tokyo
BEGIN:STANDARD
TZOFFSETFROM:+0900
TZOFFSETTO:+0900
TZNAME:JST
DTSTART:20240101T000000
END:STANDARD
END:VTIMEZONE
BEGIN:VEVENT
DTSTART;TZID=Asia/Tokyo:20250908T090000
DTEND;TZID=Asia/Tokyo:20250916T170000
DTSTAMP:20260420T022345
CREATED:20250903T134548Z
LAST-MODIFIED:20250903T134548Z
UID:2462-1757322000-1758042000@beauty-post.com
SUMMARY:敬老大会記念品の贈呈
DESCRIPTION:・75歳以上の方のご自宅に会長が記念品を持参します \n・品を渡している写真を撮らせて下さい \n関係皆様のご協力を宜しくお願いします
URL:https://beauty-post.com/event/%e6%95%ac%e8%80%81%e5%a4%a7%e4%bc%9a%e8%a8%98%e5%bf%b5%e5%93%81%e3%81%ae%e8%b4%88%e5%91%88/
CATEGORIES:錦田地区自治会連合会ほか
END:VEVENT
END:VCALENDAR